BEGIN:VCALENDAR
VERSION:2.0
PRODID:-//Wellesley Hills Congregational Church - ECPv6.15.18//NONSGML v1.0//EN
CALSCALE:GREGORIAN
METHOD:PUBLISH
X-WR-CALNAME:Wellesley Hills Congregational Church
X-ORIGINAL-URL:https://hillschurch.org
X-WR-CALDESC:Events for Wellesley Hills Congregational Church
REFRESH-INTERVAL;VALUE=DURATION:PT1H
X-Robots-Tag:noindex
X-PUBLISHED-TTL:PT1H
BEGIN:VTIMEZONE
TZID:America/New_York
BEGIN:DAYLIGHT
TZOFFSETFROM:-0500
TZOFFSETTO:-0400
TZNAME:EDT
DTSTART:20210314T070000
END:DAYLIGHT
BEGIN:STANDARD
TZOFFSETFROM:-0400
TZOFFSETTO:-0500
TZNAME:EST
DTSTART:20211107T060000
END:STANDARD
BEGIN:DAYLIGHT
TZOFFSETFROM:-0500
TZOFFSETTO:-0400
TZNAME:EDT
DTSTART:20220313T070000
END:DAYLIGHT
BEGIN:STANDARD
TZOFFSETFROM:-0400
TZOFFSETTO:-0500
TZNAME:EST
DTSTART:20221106T060000
END:STANDARD
BEGIN:DAYLIGHT
TZOFFSETFROM:-0500
TZOFFSETTO:-0400
TZNAME:EDT
DTSTART:20230312T070000
END:DAYLIGHT
BEGIN:STANDARD
TZOFFSETFROM:-0400
TZOFFSETTO:-0500
TZNAME:EST
DTSTART:20231105T060000
END:STANDARD
BEGIN:DAYLIGHT
TZOFFSETFROM:-0500
TZOFFSETTO:-0400
TZNAME:EDT
DTSTART:20240310T070000
END:DAYLIGHT
BEGIN:STANDARD
TZOFFSETFROM:-0400
TZOFFSETTO:-0500
TZNAME:EST
DTSTART:20241103T060000
END:STANDARD
BEGIN:DAYLIGHT
TZOFFSETFROM:-0500
TZOFFSETTO:-0400
TZNAME:EDT
DTSTART:20250309T070000
END:DAYLIGHT
BEGIN:STANDARD
TZOFFSETFROM:-0400
TZOFFSETTO:-0500
TZNAME:EST
DTSTART:20251102T060000
END:STANDARD
END:VTIMEZONE
BEGIN:VEVENT
DTSTART;TZID=America/New_York:20240517T180000
DTEND;TZID=America/New_York:20240517T200000
DTSTAMP:20260425T090226
CREATED:20240410T134618Z
LAST-MODIFIED:20240410T134618Z
UID:4618-1715968800-1715976000@hillschurch.org
SUMMARY:Parent's Night Out
DESCRIPTION:Join us for our monthly Parent’s night out.  Drop off your children at the youth room for snacks\, games\, pizza\, and fun times.  Parent’s head over to the parsonage for an evening with Rev. Jon. \nHope to see you there!
URL:https://hillschurch.org/event/parents-night-out-3/
CATEGORIES:Faith & Fun Ministry,Family Ministry,Parish Life
ATTACH;FMTTYPE=image/jpeg:https://hillschurch.org/wp-content/uploads/2024/01/iStock-178642059.jpg
END:VEVENT
BEGIN:VEVENT
DTSTART;VALUE=DATE:20240511
DTEND;VALUE=DATE:20241001
DTSTAMP:20260425T090226
CREATED:20240501T112142Z
LAST-MODIFIED:20240712T141430Z
UID:4628-1715385600-1727740799@hillschurch.org
SUMMARY:Community Garden 2024
DESCRIPTION:Help Make Our Garden Grow! \nThe 2024 Hills Church garden plot has been planted with seedlings and the seeds children of the church started.  We have planted a variety of vegetables and herbs.  Now we need YOU to help  tend our plot in the community garden June – Sept.  All are welcome to help water and weed.   \nThe harvest  will once again be donated to the Wellesley Food Pantry.  Come just once or as often as you like!  We hope to see you there. \nWant a garden tour or want to garden with others?  Kristen and Tina will be at the plot each Monday morning this summer starting July 8th between 8-9:30am.  The plot is nice and shady at this time.   Feel free to drop by during this time to help or learn more about the garden.  Garden gloves and hand tools are available at the plot (under the table) or bring your own. \nThe Brookside Community Garden is located at 185 Oakland St.\, Wellesley. The plot generously shared by Chris and Martha Stowell can be found by taking the pathway on the left of the shed. It is the second on the right and is marked by an orange “You are Marigolden” sign\, garden plot #7. \nSign Up HERE \nQuestions? Contact Kristen Toffer or Tina Andersson. \nThank you! \n     \n 
URL:https://hillschurch.org/event/community-garden/
CATEGORIES:Faith & Fun Ministry,Family Ministry
ATTACH;FMTTYPE=image/jpeg:https://hillschurch.org/wp-content/uploads/2024/05/garden-2023-1-scaled.jpg
END:VEVENT
BEGIN:VEVENT
DTSTART;TZID=America/New_York:20230226T100000
DTEND;TZID=America/New_York:20230226T110000
DTSTAMP:20260425T090226
CREATED:20230204T152459Z
LAST-MODIFIED:20230204T154103Z
UID:3208-1677405600-1677409200@hillschurch.org
SUMMARY:Holy Change Makers!
DESCRIPTION:Join our dynamic new class for Grades 3-5\nMake a difference in our community! Our new class is focused on preparing for a service trip where you’ll have the opportunity to give back to those in need. With fun and engaging activities\, you’ll build not only valuable life skills but also lifelong memories. So\, be a part of this exciting journey\, make new church friends\, and make a positive impact. Let’s have fun together hanging out in the Youth room. These are special days for this age group; however\, Church School is always available every Sunday too.\nSAVE THE DATE! A pre-youth group style faithful service class and social time.\nSunday mornings @ 10:00 am \n2/26 \n3/26 \n4/30 \nClub Nights \n5:30- 7 pm (Dinner included) \n3/15 \n4/12 \nOff-Site Fun Service trip – May 20th \n  \n  \n  \n 
URL:https://hillschurch.org/event/holy-change-makers/2023-02-26/
CATEGORIES:Faith & Fun Ministry,Family Ministry
ATTACH;FMTTYPE=image/jpeg:https://hillschurch.org/wp-content/uploads/2023/02/holy-change-makers.jpg
END:VEVENT
BEGIN:VEVENT
DTSTART;TZID=America/New_York:20230221T180000
DTEND;TZID=America/New_York:20230221T200000
DTSTAMP:20260425T090226
CREATED:20230204T152009Z
LAST-MODIFIED:20230219T104647Z
UID:3206-1677002400-1677009600@hillschurch.org
SUMMARY:Pancake Intergenerational Family Dinner!
DESCRIPTION:Join us for a delicious Family Pancake Dinner at church!\nIndulge in fluffy pancakes\, toppings galore\, and good company. This family-friendly event is open to everyone\, so bring your friends and neighbors for a night of great food\, fun\, and fellowship. Don’t miss out on this scrumptious feast; mark your calendars for Shrove Tuesday!\nLet us know that you hope to attend! Sign up HERE! \nFamily Lenten Packages will be available for at-home faith practices.\n  \n  \n  \n 
URL:https://hillschurch.org/event/pancake-intergenerational-dinner/
LOCATION:Hills Church\, 207 Washington Street\, Wellesley Hills\, MA\, 02481\, United States
CATEGORIES:Faith & Fun Ministry,Family Ministry
ATTACH;FMTTYPE=image/png:https://hillschurch.org/wp-content/uploads/2023/02/Screenshot-2023-02-04-at-11.02.20-AM.png
ORGANIZER;CN="Rev. Anne Marie Holloway":MAILTO:annemarie@hillschurch.org
END:VEVENT
BEGIN:VEVENT
DTSTART;TZID=America/New_York:20221211T110000
DTEND;TZID=America/New_York:20221211T130000
DTSTAMP:20260425T090226
CREATED:20221201T125029Z
LAST-MODIFIED:20221201T125056Z
UID:3041-1670756400-1670763600@hillschurch.org
SUMMARY:Christmas Cookie Share
DESCRIPTION:All are invited to a Christmas Cookie Share hosted by Faith & Fun during community hour on Sunday\, December 11th! \nBring some of your favorite Christmas cookies to share so all can enjoy a variety of Christmas cookies together after worship! (We ask that you please bring a list of ingredients for allergy and food sensitivity awareness.)
URL:https://hillschurch.org/event/christmas-cookie-share/
CATEGORIES:Faith & Fun Ministry
ATTACH;FMTTYPE=image/jpeg:https://hillschurch.org/wp-content/uploads/2022/12/christmas-3824955_960_720.jpg
END:VEVENT
BEGIN:VEVENT
DTSTART;TZID=America/New_York:20221026T190000
DTEND;TZID=America/New_York:20221026T200000
DTSTAMP:20260425T090226
CREATED:20220929T123347Z
LAST-MODIFIED:20221018T122624Z
UID:2480-1666810800-1666814400@hillschurch.org
SUMMARY:Faith & Fun - Fall Floral Design
DESCRIPTION:Join us for an hour of creativity\, beauty and fun on Wednesday October\, 26th from 7-8pm in the Assembly Room. Cindy Jazcko will be leading us in designing our own beautiful Fall floral arrangement in pumpkins from our very own pumpkin patch! Enjoy your arrangement at home for the season or gift it to someone special.\n\nAll are welcome! Please register by October 16th.\n\nSign Up HERE
URL:https://hillschurch.org/event/faith-fun-fall-floral-design/
CATEGORIES:Faith & Fun Ministry
ATTACH;FMTTYPE=image/jpeg:https://hillschurch.org/wp-content/uploads/2022/09/s-o-c-i-a-l-c-u-t-sBqiND8rQ8s-unsplash-1-scaled.jpg
END:VEVENT
BEGIN:VEVENT
DTSTART;TZID=America/New_York:20221015T093000
DTEND;TZID=America/New_York:20221015T113000
DTSTAMP:20260425T090226
CREATED:20220928T172131Z
LAST-MODIFIED:20220928T173442Z
UID:2472-1665826200-1665833400@hillschurch.org
SUMMARY:A Faith & Fun Nature Walk
DESCRIPTION:Nature Walk\n\n\n\n\n\nDelight in the beauty of nature while Tia Pinney guides us on a wonderful nature walk at Broadmoor Wildlife Sanctuary in South Natick. We will learn about the history and appreciate the beauty of the trees\, plants\, flowers and animals we encounter while enjoying time with one another. \nWe will be meeting in the parking lot of the Broadmoor Wildlife Sanctuary (280 Elliot St. in Natick) at 9:30am. We will walk from 9:30-11:30am. *Bring binoculars if you have them.* \nAll are welcome! \n\nDate: 10/15/2022 (Sat.)\nTime: 9:30am – 11:30am EDT\nLocation: Broadmoor Wildlife Sanctuary\, 280 Elliot St. Natick\nSign Up TODAY!
URL:https://hillschurch.org/event/a-faith-fun-nature-walk/
LOCATION:Broadmoor Wildlife Sanctuary\, 280 Elliot Street\, Natick\, 01760\, United States
CATEGORIES:Faith & Fun Ministry,Hiking Series
ATTACH;FMTTYPE=image/jpeg:https://hillschurch.org/wp-content/uploads/2022/09/dan-freeman-VAWqURK_Th0-unsplash-scaled.jpg
END:VEVENT
BEGIN:VEVENT
DTSTART;TZID=America/New_York:20220925T140000
DTEND;TZID=America/New_York:20220925T153000
DTSTAMP:20260425T090226
CREATED:20220914T184818Z
LAST-MODIFIED:20221023T102738Z
UID:2439-1664114400-1664119800@hillschurch.org
SUMMARY:Faith & Wellness Hikes
DESCRIPTION:Come join us in the great outdoors for hikes led by Jessica Sturtevant! Jessica will offer a series of hikes over the next few months so we can enjoy time together in nature surrounded by the beauty of God’s creation!\n\nSunday\, October 23 at 1 PM: Hammond Pond – Houghton Garden (~2 miles\, fairly easy\, meet at Northwest corner of Chestnut Hill Parking lot)\nSunday\, November 6 at 2 PM: Walden Pond (~2 miles\, fairly easy\, meet in parking lot near Thoreau’s model house)\n\n\nClick HERE to Sign Up Today! \nDon’t Miss the Fun! Join Us!
URL:https://hillschurch.org/event/faith-wellness-hikes/2022-09-25/
LOCATION:Elm Bank\, 900 Washington Street\, Wellesley\, MA\, 02482\, United States
CATEGORIES:Faith & Fun Ministry,Hiking Series
ATTACH;FMTTYPE=image/jpeg:https://hillschurch.org/wp-content/uploads/2022/09/IMG-7414-scaled-e1665674864148.jpg
END:VEVENT
BEGIN:VEVENT
DTSTART;TZID=America/New_York:20220525T100000
DTEND;TZID=America/New_York:20220525T110000
DTSTAMP:20260425T090226
CREATED:20220513T164356Z
LAST-MODIFIED:20220523T171647Z
UID:1324-1653472800-1653476400@hillschurch.org
SUMMARY:Floral Design Workshop
DESCRIPTION:Let’s gather for an hour of fun\, creativity and beauty! While we enjoy time with one another\, Cindy Jazcko will lead us in creating our own beautiful floral arrangements to take home! Join us on Wednesday\, May 25th at 10am or 7pm in Wallace Chapel. Please register HERE in advance so we have supplies for everyone. \nhttps://www.signupgenius.com/go/70A0E4BAAA92CABFC1-floral \n 
URL:https://hillschurch.org/event/floral-design-workshop/
LOCATION:Hills Church\, 207 Washington Street\, Wellesley Hills\, MA\, 02481\, United States
CATEGORIES:Faith & Fun Ministry
ATTACH;FMTTYPE=image/jpeg:https://hillschurch.org/wp-content/uploads/2022/05/60796DF2-6EA1-4BDE-8FF7-9CC8473F307D.jpeg
END:VEVENT
BEGIN:VEVENT
DTSTART;TZID=America/New_York:20220521T093000
DTEND;TZID=America/New_York:20220521T113000
DTSTAMP:20260425T090226
CREATED:20220513T175136Z
LAST-MODIFIED:20220513T175136Z
UID:1329-1653125400-1653132600@hillschurch.org
SUMMARY:Nature Walk
DESCRIPTION:Nature Walk\nDelight in the beauty of nature while Tia Pinney guides us on a wonderful walk on Saturday\, May 21st at 9:30am\, at Broadmoor Wildelife Sanctuary in Natick. We will learn about the history and appreciate the beauty of the trees\, plants\, flowers and animals we encounter while enjoying time with one another. All are welcome! Please register here:  https://www.signupgenius.com/go/70A0E4BAAA92CABFC1-nature1 \nWe will be meeting in the parking lot of the Broadmoor Wildlife Sanctuary (280 Elliot St. in Natick) at 9:30am. We will walk from 9:30-11:30am. *Bring binoculars if you have them.*
URL:https://hillschurch.org/event/nature-walk/
LOCATION:Broadmoor Wildlife Sanctuary\, 280 Elliot Street\, Natick\, 01760\, United States
CATEGORIES:Faith & Fun Ministry
ATTACH;FMTTYPE=image/jpeg:https://hillschurch.org/wp-content/uploads/2022/05/boardwalk-trail-in-summer-at-broadmoor-1140_bannerbackground.jpg
END:VEVENT
BEGIN:VEVENT
DTSTART;TZID=America/New_York:20220501T113000
DTEND;TZID=America/New_York:20220501T123000
DTSTAMP:20260425T090226
CREATED:20220419T154748Z
LAST-MODIFIED:20220421T192935Z
UID:1304-1651404600-1651408200@hillschurch.org
SUMMARY:Historical Tour of Hills Church
DESCRIPTION:As part of our 175th Anniversary celebration\, please join Susan Walton for an informal walking tour of the Hills Church on Sunday\, May 1st.\n\n\n \n\nOur 1903 building has seen numerous changes and additions over the years – from sanctuary renovations to moving the kitchen and the stage to opposite ends of the Assembly Room. Did you ever wonder where church school met before the construction of the Parish House? What happened to the parsonage that used to stand in the parking lot area? Who painted the murals at the rear of the church – and what do they represent?\n\nBring your questions and your own memories to share with others on the tour. We will meet at 11:30am in the narthex at the front of the church.\n\nWallace Chapel
URL:https://hillschurch.org/event/historical-tour-of-hills-church/
LOCATION:Hills Church\, 207 Washington Street\, Wellesley Hills\, MA\, 02481\, United States
CATEGORIES:Faith & Fun Ministry
ATTACH;FMTTYPE=image/png:https://hillschurch.org/wp-content/uploads/2022/02/Laying-the-Parish-House-Cornerstone-November-14-1948-Picture-3B-1.png
END:VEVENT
BEGIN:VEVENT
DTSTART;TZID=America/New_York:20220410T140000
DTEND;TZID=America/New_York:20220410T160000
DTSTAMP:20260425T090226
CREATED:20220405T225308Z
LAST-MODIFIED:20220405T225608Z
UID:1286-1649599200-1649606400@hillschurch.org
SUMMARY:Faith & Fun Ministry Hiking Series 4/10/22
DESCRIPTION:Come join us in the great outdoors for hikes led by Jessica Sturtevant! Jessica will offer a series of hikes over the next few months with varying degrees of difficulty for both adults and families. Let’s enjoy some time together in the woods surrounded by the beauty of God’s creation! \nSign up here!
URL:https://hillschurch.org/event/faith-fun-ministry-hiking-series-4-10-22/
LOCATION:Mt. Misery\, 60 S Great Rd\, Lincoln\, MA\, United States
CATEGORIES:Faith & Fun Ministry,Hiking Series
ATTACH;FMTTYPE=image/jpeg:https://hillschurch.org/wp-content/uploads/2022/04/IMG_1979.jpg
END:VEVENT
BEGIN:VEVENT
DTSTART;TZID=America/New_York:20220404T193000
DTEND;TZID=America/New_York:20220404T203000
DTSTAMP:20260425T090226
CREATED:20220327T020006Z
LAST-MODIFIED:20220331T215313Z
UID:1249-1649100600-1649104200@hillschurch.org
SUMMARY:Faith and Fun: Fly Fishing and Fly Tying
DESCRIPTION:Are you interested in fly fishing and tying your own flies? Tying flies is one of Jason Kranker’s favorite things to do when it’s too cold or dark to actually fish! Jason is providing an opportunity to gather and talk about (or learn about) fly fishing and tying your own flies. Build community and connection and try something new! Click the sign up link below to learn more! \nhttps://www.signupgenius.com/go/70a0e4baaa92cabfc1-flyfishing \n 
URL:https://hillschurch.org/event/faith-and-fun-fly-fishing-and-fly-tying/
CATEGORIES:Faith & Fun Ministry
ATTACH;FMTTYPE=image/jpeg:https://hillschurch.org/wp-content/uploads/2022/03/81AB2C7775E2A01E1FB206E3958CF37B_0.jpg
END:VEVENT
BEGIN:VEVENT
DTSTART;TZID=America/New_York:20220402T090000
DTEND;TZID=America/New_York:20220402T110000
DTSTAMP:20260425T090226
CREATED:20220323T205708Z
LAST-MODIFIED:20220323T211152Z
UID:1240-1648890000-1648897200@hillschurch.org
SUMMARY:Faith & Fun Ministry Hiking Series 4/2/22
DESCRIPTION:Come join us in the great outdoors for hikes led by Jessica Sturtevant! Jessica will offer a series of hikes over the next few months with varying degrees of difficulty for both adults and families. Let’s enjoy some time together in the woods surrounded by the beauty of God’s creation! \nSign up here!
URL:https://hillschurch.org/event/faith-fun-ministry-hiking-series-4-2-22/
CATEGORIES:Faith & Fun Ministry,Hiking Series
ATTACH;FMTTYPE=image/jpeg:https://hillschurch.org/wp-content/uploads/2022/03/Hiking-cropped.jpg
END:VEVENT
BEGIN:VEVENT
DTSTART;TZID=America/New_York:20220326T140000
DTEND;TZID=America/New_York:20220326T160000
DTSTAMP:20260425T090226
CREATED:20220318T190559Z
LAST-MODIFIED:20220323T211152Z
UID:1216-1648303200-1648310400@hillschurch.org
SUMMARY:Faith & Fun Ministry Hiking Series 3/26/22
DESCRIPTION:Come join us in the great outdoors for hikes led by Jessica Sturtevant! Jessica will offer a series of hikes over the next few months with varying degrees of difficulty for both adults and families. Let’s enjoy some time together in the woods surrounded by the beauty of God’s creation! \nSign up here!
URL:https://hillschurch.org/event/faith-fun-ministry-hiking-series-3-26-22/
LOCATION:Walden Pond\, Concord\, MA\, 01742\, United States
CATEGORIES:Faith & Fun Ministry,Hiking Series
ATTACH;FMTTYPE=image/jpeg:https://hillschurch.org/wp-content/uploads/2022/03/HikingPhoto_snow.jpeg
END:VEVENT
BEGIN:VEVENT
DTSTART;TZID=America/New_York:20220228T193000
DTEND;TZID=America/New_York:20220228T203000
DTSTAMP:20260425T090226
CREATED:20220314T182642Z
LAST-MODIFIED:20220314T184050Z
UID:1189-1646076600-1646080200@hillschurch.org
SUMMARY:A Spiritual Wellness Offering
DESCRIPTION:This wonderful\, in-person\, 4 part wellness series led by Dana Brennan and Jordan Rosetti\, which began Feb. 28\, continues through March 21st.\n\nIn the Christian tradition\, we celebrate the body as a temple of the Holy Spirit. If you desire to have better sleep\, more energy\, greater focus\, and a variety of new wholesome foods in your diet\, come join us for a weekly discussion.\n\nPlease register HERE to join us in person on Monday evenings from 7:30-8:30 pm through March 21st.\n\nJordan Rossetti is a licensed mental health therapist\, a yoga teacher\, and an integrative health and wellness counselor. Dana Brennan is a registered dietitian and integrative health and wellness\, counselor.
URL:https://hillschurch.org/event/a-spiritual-wellness-offering/2022-02-28/
LOCATION:Hills Church\, 207 Washington Street\, Wellesley Hills\, MA\, 02481\, United States
CATEGORIES:Faith & Fun Ministry
ATTACH;FMTTYPE=image/jpeg:https://hillschurch.org/wp-content/uploads/2022/03/Faith-and-Fun_SpiritualWellness.jpg
END:VEVENT
END:VCALENDAR