BEGIN:VCALENDAR
VERSION:2.0
PRODID:-//Wellesley Hills Congregational Church - ECPv6.15.18//NONSGML v1.0//EN
CALSCALE:GREGORIAN
METHOD:PUBLISH
X-ORIGINAL-URL:https://hillschurch.org
X-WR-CALDESC:Events for Wellesley Hills Congregational Church
REFRESH-INTERVAL;VALUE=DURATION:PT1H
X-Robots-Tag:noindex
X-PUBLISHED-TTL:PT1H
BEGIN:VTIMEZONE
TZID:America/New_York
BEGIN:DAYLIGHT
TZOFFSETFROM:-0500
TZOFFSETTO:-0400
TZNAME:EDT
DTSTART:20240310T070000
END:DAYLIGHT
BEGIN:STANDARD
TZOFFSETFROM:-0400
TZOFFSETTO:-0500
TZNAME:EST
DTSTART:20241103T060000
END:STANDARD
BEGIN:DAYLIGHT
TZOFFSETFROM:-0500
TZOFFSETTO:-0400
TZNAME:EDT
DTSTART:20250309T070000
END:DAYLIGHT
BEGIN:STANDARD
TZOFFSETFROM:-0400
TZOFFSETTO:-0500
TZNAME:EST
DTSTART:20251102T060000
END:STANDARD
BEGIN:DAYLIGHT
TZOFFSETFROM:-0500
TZOFFSETTO:-0400
TZNAME:EDT
DTSTART:20260308T070000
END:DAYLIGHT
BEGIN:STANDARD
TZOFFSETFROM:-0400
TZOFFSETTO:-0500
TZNAME:EST
DTSTART:20261101T060000
END:STANDARD
END:VTIMEZONE
BEGIN:VEVENT
DTSTART;VALUE=DATE:20250604
DTEND;VALUE=DATE:20251001
DTSTAMP:20260425T073516
CREATED:20250604T182602Z
LAST-MODIFIED:20250724T143445Z
UID:5264-1748995200-1759276799@hillschurch.org
SUMMARY:Community Garden - Come Grow with Us
DESCRIPTION:Come Grow With Us! \nThe garden is planted with seedlings the Church School kids started. We need volunteers to help water and weed at the Hills Church Community Garden June – Sept. All levels of garden experience are welcome! The link to sign up and learn more can be found in the Events weekly email. \nAll produce raised will go to the Wellesley Food Pantry. \nPlease contact Kristen T.
URL:https://hillschurch.org/event/community-garden-come-grow-with-us/
CATEGORIES:Featured Event,Green
ATTACH;FMTTYPE=image/jpeg:https://hillschurch.org/wp-content/uploads/2025/06/image2-scaled.jpeg
END:VEVENT
END:VCALENDAR